BEGIN:VCALENDAR
VERSION:2.0
PRODID:-//PFCA - ECPv5.13.0//NONSGML v1.0//EN
CALSCALE:GREGORIAN
METHOD:PUBLISH
X-WR-CALNAME:PFCA
X-ORIGINAL-URL:https://pfcacademy.com
X-WR-CALDESC:Events for PFCA
BEGIN:VTIMEZONE
TZID:America/Chicago
BEGIN:DAYLIGHT
TZOFFSETFROM:-0600
TZOFFSETTO:-0500
TZNAME:CDT
DTSTART:20190310T080000
END:DAYLIGHT
BEGIN:STANDARD
TZOFFSETFROM:-0500
TZOFFSETTO:-0600
TZNAME:CST
DTSTART:20191103T070000
END:STANDARD
END:VTIMEZONE
BEGIN:VEVENT
DTSTART;VALUE=DATE:20191111
DTEND;VALUE=DATE:20191112
DTSTAMP:20260423T155654
CREATED:20191026T183751Z
LAST-MODIFIED:20191026T183751Z
UID:1144-1573430400-1573516799@pfcacademy.com
SUMMARY:Veteran's Day
DESCRIPTION:No School for students and staff\,\nIn remembrance of Veteran’s Day!
URL:https://pfcacademy.com/event/veterans-day-2019/
CATEGORIES:Holiday,PFCA
ATTACH;FMTTYPE=image/jpeg:https://pfcacademy.com/wp-content/uploads/2019/10/PFCA-veterans-day.jpg
END:VEVENT
END:VCALENDAR