BEGIN:VCALENDAR
VERSION:2.0
PRODID:-//PFCA - ECPv5.13.0//NONSGML v1.0//EN
CALSCALE:GREGORIAN
METHOD:PUBLISH
X-WR-CALNAME:PFCA
X-ORIGINAL-URL:https://pfcacademy.com
X-WR-CALDESC:Events for PFCA
BEGIN:VTIMEZONE
TZID:America/Chicago
BEGIN:DAYLIGHT
TZOFFSETFROM:-0600
TZOFFSETTO:-0500
TZNAME:CDT
DTSTART:20190310T080000
END:DAYLIGHT
BEGIN:STANDARD
TZOFFSETFROM:-0500
TZOFFSETTO:-0600
TZNAME:CST
DTSTART:20191103T070000
END:STANDARD
END:VTIMEZONE
BEGIN:VEVENT
DTSTART;TZID=America/Chicago:20190503T105000
DTEND;TZID=America/Chicago:20190503T133000
DTSTAMP:20260423T182701
CREATED:20190430T065826Z
LAST-MODIFIED:20190430T071155Z
UID:741-1556880600-1556890200@pfcacademy.com
SUMMARY:Ugly Dolls @ Pecanland Mall
DESCRIPTION:Dear Parents\,\nThank you so much for your patience and understanding during this hectic time of year. Due to a few unforeseen events our week schedule has been modified. Please make note of the changes and let me know if you have questions or concerns. \n$4.25 per student and the cost of lunch (Pecanland Mall food court meals average about 6.00 a meal) \nAn animated adventure in which the free-spirited UglyDolls confront what it means to be different\, struggle with a desire to be loved\, and ultimately discover who you truly are is what matters most. \nEnjoy the latest movie releases with family and friends at Pecanland Mall’s movie theater. \n Click Here to print the permission slip
URL:https://pfcacademy.com/event/uglydolls-pecanland/
LOCATION:Pecanland Mall\, 4700 Millhaven Road\, Monroe\, LA\, 71203\, United States
CATEGORIES:Field Trip
ATTACH;FMTTYPE=image/jpeg:https://pfcacademy.com/wp-content/uploads/2019/04/PFCA-uglydolls.jpg
ORGANIZER;CN="Franchesca%20Anderson":MAILTO:fanderson@pfcacademy.com
END:VEVENT
END:VCALENDAR