BEGIN:VCALENDAR
VERSION:2.0
PRODID:-//PFCA - ECPv5.13.0//NONSGML v1.0//EN
CALSCALE:GREGORIAN
METHOD:PUBLISH
X-WR-CALNAME:PFCA
X-ORIGINAL-URL:https://pfcacademy.com
X-WR-CALDESC:Events for PFCA
BEGIN:VTIMEZONE
TZID:America/Chicago
BEGIN:DAYLIGHT
TZOFFSETFROM:-0600
TZOFFSETTO:-0500
TZNAME:CDT
DTSTART:20190310T080000
END:DAYLIGHT
BEGIN:STANDARD
TZOFFSETFROM:-0500
TZOFFSETTO:-0600
TZNAME:CST
DTSTART:20191103T070000
END:STANDARD
END:VTIMEZONE
BEGIN:VEVENT
DTSTART;VALUE=DATE:20190506
DTEND;VALUE=DATE:20190511
DTSTAMP:20260423T182311
CREATED:20190424T171447Z
LAST-MODIFIED:20190507T164611Z
UID:659-1557100800-1557532799@pfcacademy.com
SUMMARY:Teacher Appreciation
DESCRIPTION:Celebrate Teacher Appreciation Week 2019 and #ThankATeacher with us May 6-10!\nTeachers change the lives of your children every day\, and their work and impact extends far beyond the boundaries of the classroom—“Out of This World.” \nThey play a pivotal role in our student’s lives\, inspiring a lifelong love of learning and discovery and making a difference in their well-being and long-term success. \nLet’s show our thanks and gratitude to these stellar educators. Blast off with us during PTA Teacher Appreciation Week to #ThankATeacher for all that they do to help our children reach for the stars.
URL:https://pfcacademy.com/event/teacher-appreciation-2019/
LOCATION:Prevailing Faith Christian Academy\, 1111 Plaza Blvd.\, Monroe\, LA\, 71201\, United States
CATEGORIES:PFCA
ATTACH;FMTTYPE=image/jpeg:https://pfcacademy.com/wp-content/uploads/2019/04/Teacher-week-2019.jpg
ORGANIZER;CN="Pastor%20Brown":MAILTO:pastor@prevailingministries.com
END:VEVENT
END:VCALENDAR