BEGIN:VCALENDAR
VERSION:2.0
PRODID:-//PFCA - ECPv5.13.0//NONSGML v1.0//EN
CALSCALE:GREGORIAN
METHOD:PUBLISH
X-WR-CALNAME:PFCA
X-ORIGINAL-URL:https://pfcacademy.com
X-WR-CALDESC:Events for PFCA
BEGIN:VTIMEZONE
TZID:America/Chicago
BEGIN:DAYLIGHT
TZOFFSETFROM:-0600
TZOFFSETTO:-0500
TZNAME:CDT
DTSTART:20200308T080000
END:DAYLIGHT
BEGIN:STANDARD
TZOFFSETFROM:-0500
TZOFFSETTO:-0600
TZNAME:CST
DTSTART:20201101T070000
END:STANDARD
END:VTIMEZONE
BEGIN:VEVENT
DTSTART;VALUE=DATE:20200330
DTEND;VALUE=DATE:20200404
DTSTAMP:20260423T145342
CREATED:20200123T172627Z
LAST-MODIFIED:20200123T172627Z
UID:1342-1585526400-1585958399@pfcacademy.com
SUMMARY:Spring Break
DESCRIPTION:No School for students and staff the entire week\,\nEnjoy your break!
URL:https://pfcacademy.com/event/spring-break/
CATEGORIES:Holiday,PFCA
ATTACH;FMTTYPE=image/jpeg:https://pfcacademy.com/wp-content/uploads/2020/01/PFCA-springbreak.jpg
END:VEVENT
END:VCALENDAR