BEGIN:VCALENDAR
VERSION:2.0
PRODID:-//PFCA - ECPv5.13.0//NONSGML v1.0//EN
CALSCALE:GREGORIAN
METHOD:PUBLISH
X-WR-CALNAME:PFCA
X-ORIGINAL-URL:https://pfcacademy.com
X-WR-CALDESC:Events for PFCA
BEGIN:VTIMEZONE
TZID:America/Chicago
BEGIN:DAYLIGHT
TZOFFSETFROM:-0600
TZOFFSETTO:-0500
TZNAME:CDT
DTSTART:20190310T080000
END:DAYLIGHT
BEGIN:STANDARD
TZOFFSETFROM:-0500
TZOFFSETTO:-0600
TZNAME:CST
DTSTART:20191103T070000
END:STANDARD
END:VTIMEZONE
BEGIN:VEVENT
DTSTART;TZID=America/Chicago:20190501T100000
DTEND;TZID=America/Chicago:20190501T123000
DTSTAMP:20260423T182337
CREATED:20190430T063901Z
LAST-MODIFIED:20190430T064751Z
UID:737-1556704800-1556713800@pfcacademy.com
SUMMARY:SkateTown of Monroe
DESCRIPTION:Dear Parents\,\nThank you so much for your patience and understanding during this hectic time of year. Due to a few unforeseen events our week schedule has been modified. Please make note of the changes and let me know if you have questions or concerns. \nSkate town is a family/child friendly environment! \n Click Here to print the permission slip
URL:https://pfcacademy.com/event/skatetown-monroe/
LOCATION:SkateTown\, 3151 Sterlington Rd.\, Monroe\, LA\, 71203\, United States
CATEGORIES:Field Trip
ATTACH;FMTTYPE=image/jpeg:https://pfcacademy.com/wp-content/uploads/2019/04/PFCA-skatetown.jpg
ORGANIZER;CN="Franchesca%20Anderson":MAILTO:fanderson@pfcacademy.com
END:VEVENT
END:VCALENDAR