BEGIN:VCALENDAR
VERSION:2.0
PRODID:-//PFCA - ECPv5.13.0//NONSGML v1.0//EN
CALSCALE:GREGORIAN
METHOD:PUBLISH
X-WR-CALNAME:PFCA
X-ORIGINAL-URL:https://pfcacademy.com
X-WR-CALDESC:Events for PFCA
BEGIN:VTIMEZONE
TZID:America/Chicago
BEGIN:DAYLIGHT
TZOFFSETFROM:-0600
TZOFFSETTO:-0500
TZNAME:CDT
DTSTART:20200308T080000
END:DAYLIGHT
BEGIN:STANDARD
TZOFFSETFROM:-0500
TZOFFSETTO:-0600
TZNAME:CST
DTSTART:20201101T070000
END:STANDARD
END:VTIMEZONE
BEGIN:VEVENT
DTSTART;VALUE=DATE:20200827
DTEND;VALUE=DATE:20200828
DTSTAMP:20260423T170910
CREATED:20200826T231855Z
LAST-MODIFIED:20200826T231855Z
UID:1900-1598486400-1598572799@pfcacademy.com
SUMMARY:Severe Weather Closure
DESCRIPTION:Just a reminder parents\, our school follows Monroe City School Closures for Severe Weather Conditions. \nSchool will be cancelled Tomorrow August 27th\, 2020. We will let you know of any other closures for Friday August 28th\, 2020.
URL:https://pfcacademy.com/event/severe-weather-closure/
LOCATION:Prevailing Faith Christian Academy\, 1111 Plaza Blvd.\, Monroe\, LA\, 71201\, United States
CATEGORIES:PFCA,PFM
ATTACH;FMTTYPE=image/jpeg:https://pfcacademy.com/wp-content/uploads/2019/04/PFCA-logo-OPENLP.jpg
ORGANIZER;CN="Pastor%20Brown":MAILTO:pastor@prevailingministries.com
END:VEVENT
END:VCALENDAR