BEGIN:VCALENDAR
VERSION:2.0
PRODID:-//PFCA - ECPv5.13.0//NONSGML v1.0//EN
CALSCALE:GREGORIAN
METHOD:PUBLISH
X-WR-CALNAME:PFCA
X-ORIGINAL-URL:https://pfcacademy.com
X-WR-CALDESC:Events for PFCA
BEGIN:VTIMEZONE
TZID:America/Chicago
BEGIN:DAYLIGHT
TZOFFSETFROM:-0600
TZOFFSETTO:-0500
TZNAME:CDT
DTSTART:20220313T080000
END:DAYLIGHT
BEGIN:STANDARD
TZOFFSETFROM:-0500
TZOFFSETTO:-0600
TZNAME:CST
DTSTART:20221106T070000
END:STANDARD
END:VTIMEZONE
BEGIN:VEVENT
DTSTART;VALUE=DATE:20220606
DTEND;VALUE=DATE:20220607
DTSTAMP:20260423T135849
CREATED:20220512T033236Z
LAST-MODIFIED:20220512T042815Z
UID:3391-1654473600-1654559999@pfcacademy.com
SUMMARY:Pre-K Summer School
DESCRIPTION:PFCA Summer Preschool is here!\nPrevailing Faith is excited to introduce our new program for ages 3\, 4\, and 5 year olds! \nYour little students will experience sensory play\, field trips\, social training\, and high quality curriculum. \nTransportation is available\, if requested. Breakfast and lunch will be provided each day. \nHours of operation will include Monday thru Thursday 7:30am-4:30pm (closed for holidays) \nWe are offering funding opportunities through CCAP click here for more information. \nFor more information click here to apply now or call today 318-570-4200
URL:https://pfcacademy.com/event/pre-k-summer-school/
LOCATION:Prevailing Faith Christian Academy\, 1111 Plaza Blvd.\, Monroe\, LA\, 71201\, United States
CATEGORIES:PFCA
ATTACH;FMTTYPE=image/jpeg:https://pfcacademy.com/wp-content/uploads/2022/05/DF0074CB-750B-4CEB-B06C-87BC7A43CF0D.jpeg
END:VEVENT
END:VCALENDAR