BEGIN:VCALENDAR
VERSION:2.0
PRODID:-//PFCA - ECPv5.13.0//NONSGML v1.0//EN
CALSCALE:GREGORIAN
METHOD:PUBLISH
X-WR-CALNAME:PFCA
X-ORIGINAL-URL:https://pfcacademy.com
X-WR-CALDESC:Events for PFCA
BEGIN:VTIMEZONE
TZID:America/Chicago
BEGIN:DAYLIGHT
TZOFFSETFROM:-0600
TZOFFSETTO:-0500
TZNAME:CDT
DTSTART:20190310T080000
END:DAYLIGHT
BEGIN:STANDARD
TZOFFSETFROM:-0500
TZOFFSETTO:-0600
TZNAME:CST
DTSTART:20191103T070000
END:STANDARD
END:VTIMEZONE
BEGIN:VEVENT
DTSTART;VALUE=DATE:20191023
DTEND;VALUE=DATE:20191024
DTSTAMP:20260423T170313
CREATED:20191001T174722Z
LAST-MODIFIED:20191001T174722Z
UID:1109-1571788800-1571875199@pfcacademy.com
SUMMARY:Field Trip: Poverty Point World Heritage Site
DESCRIPTION:PFCA staff and students will be taking a field trip on October 23\, 2019. We are going to Poverty Point in Pioneer\, La.  We’ll stay a while and enjoy all of their family activities. There will be fun for the students to enjoy. Children are allowed to bring extra money for food and games at the center.  \nTotal cost is $6.00 per child   \n\nIf your child would like to bring additional money for other activities they may do so. \n\n Click Here to print the permission slip
URL:https://pfcacademy.com/event/poverty-point-2019/
LOCATION:Poverty Point World Heritage Site\, 6859 Hwy. 577\, Pioneer\, LA\, 71266\, United States
CATEGORIES:Field Trip
ATTACH;FMTTYPE=image/jpeg:https://pfcacademy.com/wp-content/uploads/2019/10/PFCA-povertypoint.jpg
ORGANIZER;CN="Nicole%20Mingo":MAILTO:nmingo@pfcacademy.com
END:VEVENT
END:VCALENDAR