BEGIN:VCALENDAR
VERSION:2.0
PRODID:-//PFCA - ECPv5.13.0//NONSGML v1.0//EN
CALSCALE:GREGORIAN
METHOD:PUBLISH
X-WR-CALNAME:PFCA
X-ORIGINAL-URL:https://pfcacademy.com
X-WR-CALDESC:Events for PFCA
BEGIN:VTIMEZONE
TZID:America/Chicago
BEGIN:DAYLIGHT
TZOFFSETFROM:-0600
TZOFFSETTO:-0500
TZNAME:CDT
DTSTART:20200308T080000
END:DAYLIGHT
BEGIN:STANDARD
TZOFFSETFROM:-0500
TZOFFSETTO:-0600
TZNAME:CST
DTSTART:20201101T070000
END:STANDARD
END:VTIMEZONE
BEGIN:VEVENT
DTSTART;VALUE=DATE:20201009
DTEND;VALUE=DATE:20201010
DTSTAMP:20260423T170457
CREATED:20201009T140217Z
LAST-MODIFIED:20201009T140217Z
UID:1976-1602201600-1602287999@pfcacademy.com
SUMMARY:PFCA School Closure Oct 9\, 2020
DESCRIPTION:Dear Parents\, \nFriday October 9\, 2020 PFCA will end both instruction and class at 11:30am due to the incoming storm. \nWe are ending early in accordance with Monroe City Schools\, Click Here to see their updates as well. \nCheck for daily updates in your student’s Google Classroom. \nAs always\, stay safe!
URL:https://pfcacademy.com/event/pfca-school-closure-oct-9/
LOCATION:Prevailing Faith Christian Academy\, 1111 Plaza Blvd.\, Monroe\, LA\, 71201\, United States
CATEGORIES:PFCA,PFM
ATTACH;FMTTYPE=image/jpeg:https://pfcacademy.com/wp-content/uploads/2019/04/PFCA-logo-OPENLP.jpg
ORGANIZER;CN="Pastor%20Brown":MAILTO:pastor@prevailingministries.com
END:VEVENT
END:VCALENDAR