BEGIN:VCALENDAR
VERSION:2.0
PRODID:-//PFCA - ECPv5.13.0//NONSGML v1.0//EN
CALSCALE:GREGORIAN
METHOD:PUBLISH
X-WR-CALNAME:PFCA
X-ORIGINAL-URL:https://pfcacademy.com
X-WR-CALDESC:Events for PFCA
BEGIN:VTIMEZONE
TZID:America/Chicago
BEGIN:DAYLIGHT
TZOFFSETFROM:-0600
TZOFFSETTO:-0500
TZNAME:CDT
DTSTART:20240310T080000
END:DAYLIGHT
BEGIN:STANDARD
TZOFFSETFROM:-0500
TZOFFSETTO:-0600
TZNAME:CST
DTSTART:20241103T070000
END:STANDARD
END:VTIMEZONE
BEGIN:VEVENT
DTSTART;TZID=America/Chicago:20240919T150000
DTEND;TZID=America/Chicago:20240919T170000
DTSTAMP:20260423T112521
CREATED:20240830T211305Z
LAST-MODIFIED:20240830T211305Z
UID:8443-1726758000-1726765200@pfcacademy.com
SUMMARY:Parent/Teacher Night (Progress Reports)
DESCRIPTION:We’re thrilled to invite you to Parent-Teacher Night on Thursday\, September 19\, 2024! It’s a fantastic opportunity to connect\, share insights\, and celebrate the amazing progress your child is making this year. Plus\, all attending parents will receive their child’s progress report! \nTime: 3:00 PM\n1st-8th grades location: Prevailing Faith Christian Academy at 1201 Stubbs Ave. Monroe\, LA 71201. \nKindergarten location: Prevailing Faith Christian Academy at 1111 Plaza Blvd. Monroe\, LA 71201. \nJoin us for an evening of meaningful conversations\, community spirit\, and valuable updates on your child’s academic journey. We can’t wait to see you there! 🙌✨
URL:https://pfcacademy.com/event/parent-teacher-night-progress-reports/
CATEGORIES:PFCA
ATTACH;FMTTYPE=image/png:https://pfcacademy.com/wp-content/uploads/2023/07/Untitled-copy-6-336-x-444-copy-copy-Facebook-Carousel-Ad-Instagram-Post-copy-copy-copy-copy-copy-28.png
END:VEVENT
END:VCALENDAR