BEGIN:VCALENDAR
VERSION:2.0
PRODID:-//PFCA - ECPv5.13.0//NONSGML v1.0//EN
CALSCALE:GREGORIAN
METHOD:PUBLISH
X-WR-CALNAME:PFCA
X-ORIGINAL-URL:https://pfcacademy.com
X-WR-CALDESC:Events for PFCA
BEGIN:VTIMEZONE
TZID:America/Chicago
BEGIN:DAYLIGHT
TZOFFSETFROM:-0600
TZOFFSETTO:-0500
TZNAME:CDT
DTSTART:20200308T080000
END:DAYLIGHT
BEGIN:STANDARD
TZOFFSETFROM:-0500
TZOFFSETTO:-0600
TZNAME:CST
DTSTART:20201101T070000
END:STANDARD
END:VTIMEZONE
BEGIN:VEVENT
DTSTART;VALUE=DATE:20200120
DTEND;VALUE=DATE:20200121
DTSTAMP:20260423T155533
CREATED:20200109T181521Z
LAST-MODIFIED:20200109T181521Z
UID:1278-1579478400-1579564799@pfcacademy.com
SUMMARY:Martin Luther King Jr Day
DESCRIPTION:No School for students and staff\,\nIn remembrance of Martin Luther King Jr!
URL:https://pfcacademy.com/event/mlk-day/
CATEGORIES:Holiday,PFCA
ATTACH;FMTTYPE=image/jpeg:https://pfcacademy.com/wp-content/uploads/2020/01/PFCA-mlk.jpg
END:VEVENT
END:VCALENDAR