BEGIN:VCALENDAR
VERSION:2.0
PRODID:-//PFCA - ECPv5.13.0//NONSGML v1.0//EN
CALSCALE:GREGORIAN
METHOD:PUBLISH
X-WR-CALNAME:PFCA
X-ORIGINAL-URL:https://pfcacademy.com
X-WR-CALDESC:Events for PFCA
BEGIN:VTIMEZONE
TZID:America/Chicago
BEGIN:DAYLIGHT
TZOFFSETFROM:-0600
TZOFFSETTO:-0500
TZNAME:CDT
DTSTART:20220313T080000
END:DAYLIGHT
BEGIN:STANDARD
TZOFFSETFROM:-0500
TZOFFSETTO:-0600
TZNAME:CST
DTSTART:20221106T070000
END:STANDARD
END:VTIMEZONE
BEGIN:VEVENT
DTSTART;VALUE=DATE:20220117
DTEND;VALUE=DATE:20220118
DTSTAMP:20260423T145236
CREATED:20210819T182546Z
LAST-MODIFIED:20210819T182546Z
UID:2764-1642377600-1642463999@pfcacademy.com
SUMMARY:Martin Luther King Jr Day
DESCRIPTION:No School for students and staff\,\nIn remembrance of Martin Luther King Jr!
URL:https://pfcacademy.com/event/martin-luther-king-jr-day/
CATEGORIES:Holiday,PFCA
ATTACH;FMTTYPE=image/jpeg:https://pfcacademy.com/wp-content/uploads/2020/01/PFCA-mlk.jpg
END:VEVENT
END:VCALENDAR