BEGIN:VCALENDAR
VERSION:2.0
PRODID:-//PFCA - ECPv5.13.0//NONSGML v1.0//EN
CALSCALE:GREGORIAN
METHOD:PUBLISH
X-WR-CALNAME:PFCA
X-ORIGINAL-URL:https://pfcacademy.com
X-WR-CALDESC:Events for PFCA
BEGIN:VTIMEZONE
TZID:America/Chicago
BEGIN:DAYLIGHT
TZOFFSETFROM:-0600
TZOFFSETTO:-0500
TZNAME:CDT
DTSTART:20190310T080000
END:DAYLIGHT
BEGIN:STANDARD
TZOFFSETFROM:-0500
TZOFFSETTO:-0600
TZNAME:CST
DTSTART:20191103T070000
END:STANDARD
END:VTIMEZONE
BEGIN:VEVENT
DTSTART;VALUE=DATE:20190429
DTEND;VALUE=DATE:20190430
DTSTAMP:20260423T182536
CREATED:20190424T192140Z
LAST-MODIFIED:20190424T194051Z
UID:663-1556496000-1556582399@pfcacademy.com
SUMMARY:La Purchase Gardens & Zoo
DESCRIPTION:During LEAP Week\, some classes will enjoy field trips to help other students that are testing and require quiet areas to complete their assignments. \nThe Zoo is here to help people develop a sustainable relationship with nature. In so doing\, the Zoo shall provide for the recreation and education of the people\, the conservation of wildlife\, and the discovery of biological knowledge. \n Click Here to print the permission slip
URL:https://pfcacademy.com/event/louisiana-purchase-gardens-zoo/
LOCATION:Louisiana Purchase Gardens & Zoo\, 1405 Bernstein Park Rd.\, Monroe\, LA\, 71202\, United States
CATEGORIES:Field Trip
ATTACH;FMTTYPE=image/jpeg:https://pfcacademy.com/wp-content/uploads/2019/04/pfca-zoo.jpg
ORGANIZER;CN="T%27Erica%20Lawson":MAILTO:tlawson@pfcacademy.com
END:VEVENT
END:VCALENDAR