BEGIN:VCALENDAR
VERSION:2.0
PRODID:-//PFCA - ECPv5.13.0//NONSGML v1.0//EN
CALSCALE:GREGORIAN
METHOD:PUBLISH
X-WR-CALNAME:PFCA
X-ORIGINAL-URL:https://pfcacademy.com
X-WR-CALDESC:Events for PFCA
BEGIN:VTIMEZONE
TZID:America/Chicago
BEGIN:DAYLIGHT
TZOFFSETFROM:-0600
TZOFFSETTO:-0500
TZNAME:CDT
DTSTART:20190310T080000
END:DAYLIGHT
BEGIN:STANDARD
TZOFFSETFROM:-0500
TZOFFSETTO:-0600
TZNAME:CST
DTSTART:20191103T070000
END:STANDARD
END:VTIMEZONE
BEGIN:VEVENT
DTSTART;TZID=America/Chicago:20190415T131500
DTEND;TZID=America/Chicago:20190418T143000
DTSTAMP:20260423T181252
CREATED:20190423T063200Z
LAST-MODIFIED:20190423T063246Z
UID:652-1555334100-1555597800@pfcacademy.com
SUMMARY:LEAP Testing
DESCRIPTION:Quiet time for all of PFCA\, testing is active.
URL:https://pfcacademy.com/event/leap-2018-2019/
LOCATION:Prevailing Faith Bible Church\, 1111 Plaza Blvd.\, Monroe\, LA\, 71201\, United States
CATEGORIES:Chapel,PFCA
ATTACH;FMTTYPE=image/jpeg:https://pfcacademy.com/wp-content/uploads/2019/04/PFCA-logo-OPENLP.jpg
ORGANIZER;CN="Pastor%20Brown":MAILTO:pastor@prevailingministries.com
END:VEVENT
END:VCALENDAR