BEGIN:VCALENDAR
VERSION:2.0
PRODID:-//PFCA - ECPv5.13.0//NONSGML v1.0//EN
CALSCALE:GREGORIAN
METHOD:PUBLISH
X-WR-CALNAME:PFCA
X-ORIGINAL-URL:https://pfcacademy.com
X-WR-CALDESC:Events for PFCA
BEGIN:VTIMEZONE
TZID:America/Chicago
BEGIN:DAYLIGHT
TZOFFSETFROM:-0600
TZOFFSETTO:-0500
TZNAME:CDT
DTSTART:20190310T080000
END:DAYLIGHT
BEGIN:STANDARD
TZOFFSETFROM:-0500
TZOFFSETTO:-0600
TZNAME:CST
DTSTART:20191103T070000
END:STANDARD
END:VTIMEZONE
BEGIN:VEVENT
DTSTART;VALUE=DATE:20190517
DTEND;VALUE=DATE:20190518
DTSTAMP:20260423T160306
CREATED:20190418T082954Z
LAST-MODIFIED:20190509T064838Z
UID:524-1558051200-1558137599@pfcacademy.com
SUMMARY:Last Day for Teachers
DESCRIPTION:Thank You to the PFCA Staff\n2018-2019 PFCA school year is a wrap! \nHave a fun summer to everyone!
URL:https://pfcacademy.com/event/last-day-for-teachers/
CATEGORIES:PFCA
ATTACH;FMTTYPE=image/png:https://pfcacademy.com/wp-content/uploads/2017/10/img-bg.png
END:VEVENT
END:VCALENDAR