BEGIN:VCALENDAR
VERSION:2.0
PRODID:-//PFCA - ECPv5.13.0//NONSGML v1.0//EN
CALSCALE:GREGORIAN
METHOD:PUBLISH
X-WR-CALNAME:PFCA
X-ORIGINAL-URL:https://pfcacademy.com
X-WR-CALDESC:Events for PFCA
BEGIN:VTIMEZONE
TZID:America/Chicago
BEGIN:DAYLIGHT
TZOFFSETFROM:-0600
TZOFFSETTO:-0500
TZNAME:CDT
DTSTART:20210314T080000
END:DAYLIGHT
BEGIN:STANDARD
TZOFFSETFROM:-0500
TZOFFSETTO:-0600
TZNAME:CST
DTSTART:20211107T070000
END:STANDARD
END:VTIMEZONE
BEGIN:VEVENT
DTSTART;VALUE=DATE:20210526
DTEND;VALUE=DATE:20210527
DTSTAMP:20260423T160300
CREATED:20200821T195724Z
LAST-MODIFIED:20201019T213255Z
UID:1841-1621987200-1622073599@pfcacademy.com
SUMMARY:Last Day for Students
DESCRIPTION:Dear Parents & Guardians\, \nYou’re invited to our end of the year program for all PFCA students. Tuesday May 21\, 2021\, PFCA will host a graduation and awards ceremony in the sanctuary. Arrive early to get a good seat\, we have limited seating. \nPFCA is offering Kindergarten thru 8th grade in the 2020-2021 school year for students. \nHave a blessed day and see you on Tuesday May 21st!
URL:https://pfcacademy.com/event/last-day-for-students-2020/
LOCATION:Prevailing Faith Bible Church\, 1111 Plaza Blvd.\, Monroe\, LA\, 71201\, United States
CATEGORIES:PFCA
ATTACH;FMTTYPE=image/jpeg:https://pfcacademy.com/wp-content/uploads/2017/10/052.jpg
ORGANIZER;CN="Pastor%20Brown":MAILTO:pastor@prevailingministries.com
END:VEVENT
END:VCALENDAR