BEGIN:VCALENDAR
VERSION:2.0
PRODID:-//PFCA - ECPv5.13.0//NONSGML v1.0//EN
CALSCALE:GREGORIAN
METHOD:PUBLISH
X-WR-CALNAME:PFCA
X-ORIGINAL-URL:https://pfcacademy.com
X-WR-CALDESC:Events for PFCA
BEGIN:VTIMEZONE
TZID:America/Chicago
BEGIN:DAYLIGHT
TZOFFSETFROM:-0600
TZOFFSETTO:-0500
TZNAME:CDT
DTSTART:20190310T080000
END:DAYLIGHT
BEGIN:STANDARD
TZOFFSETFROM:-0500
TZOFFSETTO:-0600
TZNAME:CST
DTSTART:20191103T070000
END:STANDARD
END:VTIMEZONE
BEGIN:VEVENT
DTSTART;VALUE=DATE:20190502
DTEND;VALUE=DATE:20190503
DTSTAMP:20260423T171111
CREATED:20190425T181015Z
LAST-MODIFIED:20190425T181122Z
UID:709-1556755200-1556841599@pfcacademy.com
SUMMARY:Forsythe Park
DESCRIPTION:During LEAP Week\, some classes will enjoy field trips to help other students that are testing and require quiet areas to complete their assignments. \nWooden sitting bleachers; bandstand: open green space; old Swayze natatorium; tunnel; restrooms; tennis complex; tennis pro-shop; MUNY golf course; park benches; dragon fly; walking trail; two ballfields; climbing units; swings; picnic tables \n Click Here to print the permission slip
URL:https://pfcacademy.com/event/forsythe-park/
LOCATION:Forsythe Park\, 2300 Sycamore St\, Monroe\, LA\, 71201\, United States
CATEGORIES:Field Trip
ATTACH;FMTTYPE=image/jpeg:https://pfcacademy.com/wp-content/uploads/2019/04/pfca-forsythe.jpg
ORGANIZER;CN="T%27Erica%20Lawson":MAILTO:tlawson@pfcacademy.com
END:VEVENT
END:VCALENDAR