BEGIN:VCALENDAR
VERSION:2.0
PRODID:-//PFCA - ECPv5.13.0//NONSGML v1.0//EN
CALSCALE:GREGORIAN
METHOD:PUBLISH
X-WR-CALNAME:PFCA
X-ORIGINAL-URL:https://pfcacademy.com
X-WR-CALDESC:Events for PFCA
BEGIN:VTIMEZONE
TZID:America/Chicago
BEGIN:DAYLIGHT
TZOFFSETFROM:-0600
TZOFFSETTO:-0500
TZNAME:CDT
DTSTART:20200308T080000
END:DAYLIGHT
BEGIN:STANDARD
TZOFFSETFROM:-0500
TZOFFSETTO:-0600
TZNAME:CST
DTSTART:20201101T070000
END:STANDARD
END:VTIMEZONE
BEGIN:VEVENT
DTSTART;VALUE=DATE:20200826
DTEND;VALUE=DATE:20200827
DTSTAMP:20260423T160235
CREATED:20200821T180306Z
LAST-MODIFIED:20200821T180306Z
UID:1842-1598400000-1598486399@pfcacademy.com
SUMMARY:First Day for Students
DESCRIPTION:Welcome Parents & Guardians\,\nDear Parents\, \n  \nWelcome to the 2020-2021 School Year! \n  \nWe thank you for your patience during these trying times as we endeavor to meet the challenges of this current school year. \n  \nWe are implementing a 3 Phase process for the year. Currently we will begin Phase 1 on August 26th through Virtual Education. We will discuss the next phase as the school year continues. The teachers will contact you so make sure you check your email and phones daily for more information and updates as we proceed. \n  \nBreakfast and lunch will be delivered to your desired location.  \n  \nDuring the pandemic and with a possibility of a lockdown\, we will strive to provide excellent education for your child/ren.  \n  \nPlease fill out this survey click here to further assist us in educating your student(s). \n*For more information go to https://pfcacademy.com/ for further updates* \nHappy learning\, \nCharles & Patsy Brown\nSchool Leaders
URL:https://pfcacademy.com/event/first-day-for-students-2020/
LOCATION:Prevailing Faith Christian Academy\, 1111 Plaza Blvd.\, Monroe\, LA\, 71201\, United States
CATEGORIES:PFCA
ATTACH;FMTTYPE=image/jpeg:https://pfcacademy.com/wp-content/uploads/2017/10/052.jpg
END:VEVENT
END:VCALENDAR