BEGIN:VCALENDAR
VERSION:2.0
PRODID:-//PFCA - ECPv5.13.0//NONSGML v1.0//EN
CALSCALE:GREGORIAN
METHOD:PUBLISH
X-WR-CALNAME:PFCA
X-ORIGINAL-URL:https://pfcacademy.com
X-WR-CALDESC:Events for PFCA
BEGIN:VTIMEZONE
TZID:America/Chicago
BEGIN:DAYLIGHT
TZOFFSETFROM:-0600
TZOFFSETTO:-0500
TZNAME:CDT
DTSTART:20200308T080000
END:DAYLIGHT
BEGIN:STANDARD
TZOFFSETFROM:-0500
TZOFFSETTO:-0600
TZNAME:CST
DTSTART:20201101T070000
END:STANDARD
END:VTIMEZONE
BEGIN:VEVENT
DTSTART;VALUE=DATE:20200213
DTEND;VALUE=DATE:20200214
DTSTAMP:20260423T170000
CREATED:20200207T170603Z
LAST-MODIFIED:20200207T170603Z
UID:1412-1581552000-1581638399@pfcacademy.com
SUMMARY:Field Trip: African-American Heritage: Destiny
DESCRIPTION:PFCA staff and students will have the opportunity to attend an African-American Heritage performance entitled “Destiny\,” written by Roosevelt Wright\, Jr. at the Tab-A-Torium on February 13\, 2020. \n“Destiny” is a moving drama based on three Monroe youth who grew to be adults whose lives touched millions: Bill Russell (NBA Great); Huey P. Newton (Founder of the Black Panther Party)\, and Pershing Foster (Renown surgeon and son of Madison James Foster) The acting\, singing\, dancing\, and comedy of the play will help your child learn more about our heritage and improve their knowledge of the theater at the same time. \n\nTotal cost is $4.00 per child.\n\n*Students are to wear red uniform shirts and khaki bottoms.\nTennis Shoes Only* \n Click Here to print the permission slip\nPlease understand that if your child\, for any reason\, cannot attend there will be no refund.
URL:https://pfcacademy.com/event/field-trip-african-american-heritage-destiny/
LOCATION:Tabatorium\, 311 N. 9th Street\, Monroe\, LA\, 71201\, United States
CATEGORIES:Field Trip
ATTACH;FMTTYPE=image/jpeg:https://pfcacademy.com/wp-content/uploads/2020/02/PFCA-Tabatorium.jpg
ORGANIZER;CN="Mavis%20Johnson":MAILTO:mjohnson@pfcacademy.com
END:VEVENT
END:VCALENDAR