BEGIN:VCALENDAR
VERSION:2.0
PRODID:-//PFCA - ECPv5.13.0//NONSGML v1.0//EN
CALSCALE:GREGORIAN
METHOD:PUBLISH
X-WR-CALNAME:PFCA
X-ORIGINAL-URL:https://pfcacademy.com
X-WR-CALDESC:Events for PFCA
BEGIN:VTIMEZONE
TZID:America/Chicago
BEGIN:DAYLIGHT
TZOFFSETFROM:-0600
TZOFFSETTO:-0500
TZNAME:CDT
DTSTART:20190310T080000
END:DAYLIGHT
BEGIN:STANDARD
TZOFFSETFROM:-0500
TZOFFSETTO:-0600
TZNAME:CST
DTSTART:20191103T070000
END:STANDARD
END:VTIMEZONE
BEGIN:VEVENT
DTSTART;TZID=America/Chicago:20190503T113000
DTEND;TZID=America/Chicago:20190503T133000
DTSTAMP:20260423T182439
CREATED:20190425T183606Z
LAST-MODIFIED:20190425T183606Z
UID:717-1556883000-1556890200@pfcacademy.com
SUMMARY:Emily P. Robinson Rec Center
DESCRIPTION:During LEAP Week\, some classes will enjoy field trips to help other students that are testing and require quiet areas to complete their assignments. \n Click Here to print the permission slip
URL:https://pfcacademy.com/event/emily-p-robinson-rec-center/
LOCATION:Emily P. Robinson Rec Center\, 3504 Jackson Street\, Monroe\, LA\, 71202\, United States
CATEGORIES:Field Trip
ATTACH;FMTTYPE=image/jpeg:https://pfcacademy.com/wp-content/uploads/2019/04/pfca-emily-rec-center.jpg
ORGANIZER;CN="T%27Erica%20Lawson":MAILTO:tlawson@pfcacademy.com
END:VEVENT
END:VCALENDAR