BEGIN:VCALENDAR
VERSION:2.0
PRODID:-//PFCA - ECPv5.13.0//NONSGML v1.0//EN
CALSCALE:GREGORIAN
METHOD:PUBLISH
X-WR-CALNAME:PFCA
X-ORIGINAL-URL:https://pfcacademy.com
X-WR-CALDESC:Events for PFCA
BEGIN:VTIMEZONE
TZID:America/Chicago
BEGIN:DAYLIGHT
TZOFFSETFROM:-0600
TZOFFSETTO:-0500
TZNAME:CDT
DTSTART:20220313T080000
END:DAYLIGHT
BEGIN:STANDARD
TZOFFSETFROM:-0500
TZOFFSETTO:-0600
TZNAME:CST
DTSTART:20221106T070000
END:STANDARD
END:VTIMEZONE
BEGIN:VEVENT
DTSTART;TZID=America/Chicago:20220417T100000
DTEND;TZID=America/Chicago:20220417T123000
DTSTAMP:20260423T135303
CREATED:20210819T183055Z
LAST-MODIFIED:20210819T183055Z
UID:2777-1650189600-1650198600@pfcacademy.com
SUMMARY:Easter Sunday
DESCRIPTION:Students and parents are encouraged to attend a Sunday service on April 17\, 2022 with your local church.\nLuke 24:2-3\nThey found the stone rolled away from the tomb\, but when they entered\, they did not find the body of the Lord Jesus.\n 
URL:https://pfcacademy.com/event/easter-sunday/
LOCATION:Prevailing Faith Bible Church\, 1111 Plaza Blvd.\, Monroe\, LA\, 71201\, United States
CATEGORIES:PFM
ATTACH;FMTTYPE=image/jpeg:https://pfcacademy.com/wp-content/uploads/2019/04/Resurrection-Sunday-image-compressor-1.jpg
ORGANIZER;CN="Pastor%20Brown":MAILTO:pastor@prevailingministries.com
END:VEVENT
END:VCALENDAR