BEGIN:VCALENDAR
VERSION:2.0
PRODID:-//PFCA - ECPv5.13.0//NONSGML v1.0//EN
CALSCALE:GREGORIAN
METHOD:PUBLISH
X-WR-CALNAME:PFCA
X-ORIGINAL-URL:https://pfcacademy.com
X-WR-CALDESC:Events for PFCA
BEGIN:VTIMEZONE
TZID:America/Chicago
BEGIN:DAYLIGHT
TZOFFSETFROM:-0600
TZOFFSETTO:-0500
TZNAME:CDT
DTSTART:20240310T080000
END:DAYLIGHT
BEGIN:STANDARD
TZOFFSETFROM:-0500
TZOFFSETTO:-0600
TZNAME:CST
DTSTART:20241103T070000
END:STANDARD
END:VTIMEZONE
BEGIN:VEVENT
DTSTART;VALUE=DATE:20240401
DTEND;VALUE=DATE:20240402
DTSTAMP:20260423T112937
CREATED:20230717T183214Z
LAST-MODIFIED:20230720T010627Z
UID:4757-1711929600-1712015999@pfcacademy.com
SUMMARY:Easter Monday - No School
DESCRIPTION:School resumes April 2.
URL:https://pfcacademy.com/event/easter-monday-no-school/
CATEGORIES:Holiday
ATTACH;FMTTYPE=image/png:https://pfcacademy.com/wp-content/uploads/2023/07/Untitled-copy-6-336-x-444-copy-copy-Facebook-Carousel-Ad-Instagram-Post-copy-copy-copy-copy.png
END:VEVENT
END:VCALENDAR