BEGIN:VCALENDAR
VERSION:2.0
PRODID:-//PFCA - ECPv5.13.0//NONSGML v1.0//EN
CALSCALE:GREGORIAN
METHOD:PUBLISH
X-WR-CALNAME:PFCA
X-ORIGINAL-URL:https://pfcacademy.com
X-WR-CALDESC:Events for PFCA
BEGIN:VTIMEZONE
TZID:America/Chicago
BEGIN:DAYLIGHT
TZOFFSETFROM:-0600
TZOFFSETTO:-0500
TZNAME:CDT
DTSTART:20190310T080000
END:DAYLIGHT
BEGIN:STANDARD
TZOFFSETFROM:-0500
TZOFFSETTO:-0600
TZNAME:CST
DTSTART:20191103T070000
END:STANDARD
END:VTIMEZONE
BEGIN:VEVENT
DTSTART;TZID=America/Chicago:20191008T110000
DTEND;TZID=America/Chicago:20191008T140000
DTSTAMP:20260423T155811
CREATED:20191001T172109Z
LAST-MODIFIED:20191001T174911Z
UID:1103-1570532400-1570543200@pfcacademy.com
SUMMARY:Field Trip: Curry Farms
DESCRIPTION:PFCA staff and students will be taking a field trip on October 8\, 2019. We are going to Curry Farms (Pumpkin Patch) in Rayville\, La. to visit their pumpkin patch. We’ll stay a while and enjoy all of their family activities. There will be fun for the students to enjoy. \nParents are invited to join and help volunteer as chaperones. \n\nTotal cost is $10.00 per child or parent\n\n$8 Entrance fee\n$2 Kona ice\nSack lunch will be provided\n\n\n\n Click Here to print the permission slip
URL:https://pfcacademy.com/event/curry-farms-2019/
LOCATION:Curry Farms\, 548 Robinson Dr\, Rayville\, LA\, 71269\, United States
CATEGORIES:Field Trip
ATTACH;FMTTYPE=image/jpeg:https://pfcacademy.com/wp-content/uploads/2019/10/PFCA-curryfarms.jpg
ORGANIZER;CN="T%27Erica%20Lawson":MAILTO:tlawson@pfcacademy.com
END:VEVENT
END:VCALENDAR