BEGIN:VCALENDAR
VERSION:2.0
PRODID:-//PFCA - ECPv5.13.0//NONSGML v1.0//EN
CALSCALE:GREGORIAN
METHOD:PUBLISH
X-WR-CALNAME:PFCA
X-ORIGINAL-URL:https://pfcacademy.com
X-WR-CALDESC:Events for PFCA
BEGIN:VTIMEZONE
TZID:America/Chicago
BEGIN:DAYLIGHT
TZOFFSETFROM:-0600
TZOFFSETTO:-0500
TZNAME:CDT
DTSTART:20200308T080000
END:DAYLIGHT
BEGIN:STANDARD
TZOFFSETFROM:-0500
TZOFFSETTO:-0600
TZNAME:CST
DTSTART:20201101T070000
END:STANDARD
END:VTIMEZONE
BEGIN:VEVENT
DTSTART;VALUE=DATE:20200831
DTEND;VALUE=DATE:20200901
DTSTAMP:20260423T182830
CREATED:20200831T015744Z
LAST-MODIFIED:20200901T000037Z
UID:1915-1598832000-1598918399@pfcacademy.com
SUMMARY:City Shutdown Closure
DESCRIPTION:Dear Parents\, \nWe hope that you and your family are safe during these trying times.\n\nPFCA follows Monroe City School Closures and due to the power outages caused by the recent hurricane conditions school will be cancelled for Monday August 31\, 2020.\n\nWe will let you know of any other closures for Tuesday September 1\, 2020. \n\nStay safe\, we will get through this together.
URL:https://pfcacademy.com/event/city-shutdown-closure-2/
LOCATION:Prevailing Faith Christian Academy\, 1111 Plaza Blvd.\, Monroe\, LA\, 71201\, United States
CATEGORIES:PFCA,PFM
ATTACH;FMTTYPE=image/jpeg:https://pfcacademy.com/wp-content/uploads/2019/04/PFCA-logo-OPENLP.jpg
ORGANIZER;CN="Pastor%20Brown":MAILTO:pastor@prevailingministries.com
END:VEVENT
END:VCALENDAR