BEGIN:VCALENDAR
VERSION:2.0
PRODID:-//PFCA - ECPv5.13.0//NONSGML v1.0//EN
CALSCALE:GREGORIAN
METHOD:PUBLISH
X-WR-CALNAME:PFCA
X-ORIGINAL-URL:https://pfcacademy.com
X-WR-CALDESC:Events for PFCA
BEGIN:VTIMEZONE
TZID:America/Chicago
BEGIN:DAYLIGHT
TZOFFSETFROM:-0600
TZOFFSETTO:-0500
TZNAME:CDT
DTSTART:20250309T080000
END:DAYLIGHT
BEGIN:STANDARD
TZOFFSETFROM:-0500
TZOFFSETTO:-0600
TZNAME:CST
DTSTART:20251102T070000
END:STANDARD
BEGIN:DAYLIGHT
TZOFFSETFROM:-0600
TZOFFSETTO:-0500
TZNAME:CDT
DTSTART:20260308T080000
END:DAYLIGHT
BEGIN:STANDARD
TZOFFSETFROM:-0500
TZOFFSETTO:-0600
TZNAME:CST
DTSTART:20261101T070000
END:STANDARD
END:VTIMEZONE
BEGIN:VEVENT
DTSTART;VALUE=DATE:20251222
DTEND;VALUE=DATE:20260106
DTSTAMP:20260423T112515
CREATED:20251204T175504Z
LAST-MODIFIED:20251204T175504Z
UID:14678-1766361600-1767657599@pfcacademy.com
SUMMARY:Christmas Break
DESCRIPTION:No School for students and staff\, we will have a virtual school day Jan. 5th\, 2026.\nStudents will return to school\, in the building\, on Jan. 6th\, 2026.\nEnjoy your break and merry Christmas!
URL:https://pfcacademy.com/event/christmas-break-3/
LOCATION:Prevailing Faith Christian Academy\, 1111 Plaza Blvd.\, Monroe\, LA\, 71201\, United States
CATEGORIES:Holiday,PFCA
ATTACH;FMTTYPE=image/jpeg:https://pfcacademy.com/wp-content/uploads/2019/10/PFCA-christmas.jpg
END:VEVENT
END:VCALENDAR