BEGIN:VCALENDAR
VERSION:2.0
PRODID:-//PFCA - ECPv5.13.0//NONSGML v1.0//EN
CALSCALE:GREGORIAN
METHOD:PUBLISH
X-WR-CALNAME:PFCA
X-ORIGINAL-URL:https://pfcacademy.com
X-WR-CALDESC:Events for PFCA
BEGIN:VTIMEZONE
TZID:America/Chicago
BEGIN:DAYLIGHT
TZOFFSETFROM:-0600
TZOFFSETTO:-0500
TZNAME:CDT
DTSTART:20190310T080000
END:DAYLIGHT
BEGIN:STANDARD
TZOFFSETFROM:-0500
TZOFFSETTO:-0600
TZNAME:CST
DTSTART:20191103T070000
END:STANDARD
END:VTIMEZONE
BEGIN:VEVENT
DTSTART;TZID=America/Chicago:20190830T140000
DTEND;TZID=America/Chicago:20190830T143000
DTSTAMP:20260423T165905
CREATED:20190809T073754Z
LAST-MODIFIED:20190919T160752Z
UID:958-1567173600-1567175400@pfcacademy.com
SUMMARY:Chapel August 30th
DESCRIPTION:Students will sing and enjoy a heartfelt sermon from PFCA founders or a guest speaker.
URL:https://pfcacademy.com/event/chapel-august-30th/
LOCATION:Prevailing Faith Bible Church\, 1111 Plaza Blvd.\, Monroe\, LA\, 71201\, United States
CATEGORIES:Chapel,PFCA
ATTACH;FMTTYPE=image/jpeg:https://pfcacademy.com/wp-content/uploads/2019/04/PFCA-logo-OPENLP.jpg
ORGANIZER;CN="Pastor%20Brown":MAILTO:pastor@prevailingministries.com
END:VEVENT
END:VCALENDAR