BEGIN:VCALENDAR
VERSION:2.0
PRODID:-//PFCA - ECPv5.13.0//NONSGML v1.0//EN
CALSCALE:GREGORIAN
METHOD:PUBLISH
X-WR-CALNAME:PFCA
X-ORIGINAL-URL:https://pfcacademy.com
X-WR-CALDESC:Events for PFCA
BEGIN:VTIMEZONE
TZID:America/Chicago
BEGIN:DAYLIGHT
TZOFFSETFROM:-0600
TZOFFSETTO:-0500
TZNAME:CDT
DTSTART:20190310T080000
END:DAYLIGHT
BEGIN:STANDARD
TZOFFSETFROM:-0500
TZOFFSETTO:-0600
TZNAME:CST
DTSTART:20191103T070000
END:STANDARD
END:VTIMEZONE
BEGIN:VEVENT
DTSTART;TZID=America/Chicago:20190503T090000
DTEND;TZID=America/Chicago:20190503T110000
DTSTAMP:20260423T170844
CREATED:20190425T182113Z
LAST-MODIFIED:20190425T182113Z
UID:713-1556874000-1556881200@pfcacademy.com
SUMMARY:Bayou Bowl
DESCRIPTION:During LEAP Week\, some classes will enjoy field trips to help other students that are testing and require quiet areas to complete their assignments. \nHere at Bayou Bowl\, we have 40 lanes with Brunswick Sync electronic scoring! Our full service kitchen – AlleyGator’s Grill – offers tons of tasty treats! From fries and baked potatoes to salads and quesadillas! Come on in and join a league\, have a party\, or just bowl for fun. At Bayou Bowl Family Bowling Center we make it fun for everyone! – Don’t forget to stop by our arcade while you’re there! \n Click Here to print the permission slip
URL:https://pfcacademy.com/event/bayou-bowl/
LOCATION:Bayou Bowl\, 100 Horseshoe Lake Rd\, Monroe\, LA\, 71203\, United States
CATEGORIES:Field Trip
ATTACH;FMTTYPE=image/jpeg:https://pfcacademy.com/wp-content/uploads/2019/04/pfca-bowl.jpg
ORGANIZER;CN="T%27Erica%20Lawson":MAILTO:tlawson@pfcacademy.com
END:VEVENT
END:VCALENDAR